BEGIN:VCALENDAR
VERSION:2.0
PRODID:-//www.ketchikanarts.org//NONSGML kigkonsult.se iCalcreator 2.30.10/
 /
CALSCALE:GREGORIAN
METHOD:PUBLISH
UID:3c167512-0c9f-438a-8f8c-3ec1fe7c290b
X-WR-CALDESC:The King-Off will be this Wednesday\, May 22nd beginning at 7:
 00 PM. This is the last choir performance of the school year and is such a
  fun event! Come check out Music for the Ages and listen to our music from
  the past!\n
X-WR-RELCALID:9818b1c741f29d73bf244d6b50cf5647
X-WR-TIMEZONE:America/Anchorage
BEGIN:VTIMEZONE
TZID:America/Anchorage
BEGIN:STANDARD
TZNAME:AKST
DTSTART:20181104T020000
TZOFFSETFROM:-0800
TZOFFSETTO:-0900
RDATE:20191103T020000
RDATE:20201101T020000
END:STANDARD
BEGIN:DAYLIGHT
TZNAME:AKDT
DTSTART:20190310T020000
TZOFFSETFROM:-0900
TZOFFSETTO:-0800
RDATE:20200308T020000
END:DAYLIGHT
END:VTIMEZONE
BEGIN:VEVENT
UID:4a163861-99fc-4ca5-9412-5e9ea78b983e
DTSTAMP:20260422T173002Z
DESCRIPTION:The King-Off will be this Wednesday\, May 22nd beginning at 7:0
 0 PM. This is the last choir performance of the school year and is such a 
 fun event! Come check out Music for the Ages and listen to our music from 
 the past!\n
DTSTART;TZID=America/Anchorage:20190522T190000
DTEND;TZID=America/Anchorage:20190522T210000
LOCATION:Kayhi Auditorium
SUMMARY:King Off
END:VEVENT
END:VCALENDAR
