BEGIN:VCALENDAR
VERSION:2.0
PRODID:-//www.ketchikanarts.org//NONSGML kigkonsult.se iCalcreator 2.30.10/
 /
CALSCALE:GREGORIAN
METHOD:PUBLISH
UID:b97a5adf-90f7-4686-9183-89f829c2aad5
X-WR-CALDESC:The Monthly Grind is always the third Saturday of the month\, 
 September through May. $5 tickets - but if you bring a dessert to share yo
 u will get your ticket refunded!\n\nThis is the place to listen to Ketchik
 an's talents on the stage. Performances range from singer-song writer\, to
  theater\, to juggling\, to hula hopping while dancing\, while wearing a u
 nicorn mask! (That really happened! It was COOL!!!)\n\nTickets are availab
 le in advance at Soho Coho and the Tongass Business Center.
X-WR-RELCALID:adeda6dbc5c1d0a2baff6840e0f8c1c2
X-WR-TIMEZONE:America/Anchorage
BEGIN:VTIMEZONE
TZID:America/Anchorage
BEGIN:STANDARD
TZNAME:AKST
DTSTART:20181104T020000
TZOFFSETFROM:-0800
TZOFFSETTO:-0900
RDATE:20191103T020000
RDATE:20201101T020000
END:STANDARD
BEGIN:DAYLIGHT
TZNAME:AKDT
DTSTART:20190310T020000
TZOFFSETFROM:-0900
TZOFFSETTO:-0800
RDATE:20200308T020000
END:DAYLIGHT
END:VTIMEZONE
BEGIN:VEVENT
UID:f6baa690-2187-42cd-95d4-f208eb8a29f6
DTSTAMP:20260422T173424Z
DESCRIPTION:The Monthly Grind is always the third Saturday of the month\, S
 eptember through May. $5 tickets - but if you bring a dessert to share you
  will get your ticket refunded!\n\nThis is the place to listen to Ketchika
 n's talents on the stage. Performances range from singer-song writer\, to 
 theater\, to juggling\, to hula hopping while dancing\, while wearing a un
 icorn mask! (That really happened! It was COOL!!!)\n\nTickets are availabl
 e in advance at Soho Coho and the Tongass Business Center.
DTSTART;TZID=America/Anchorage:20190518T190000
DTEND;TZID=America/Anchorage:20190518T210000
LOCATION:Saxman Tribal House
SUMMARY:The Monthly Grind
END:VEVENT
END:VCALENDAR
