BEGIN:VCALENDAR
VERSION:2.0
PRODID:-//www.ketchikanarts.org//NONSGML kigkonsult.se iCalcreator 2.30.10/
 /
CALSCALE:GREGORIAN
METHOD:PUBLISH
UID:9a5c50ab-1552-42da-80c2-17a6d99da76d
X-WR-CALDESC:Shelly Hill\, licensed yoga instructor\, takes you through an 
 artful\, mindful\, 1-hour yoga session. in the beautiful ambiance of the M
 ain Street Gallery $5
X-WR-RELCALID:98c28d67cd0e4cbf4b63fa9fe2b5b4a1
X-WR-TIMEZONE:America/Anchorage
BEGIN:VTIMEZONE
TZID:America/Anchorage
BEGIN:STANDARD
TZNAME:AKST
DTSTART:20181104T020000
TZOFFSETFROM:-0800
TZOFFSETTO:-0900
RDATE:20191103T020000
RDATE:20201101T020000
END:STANDARD
BEGIN:DAYLIGHT
TZNAME:AKDT
DTSTART:20190310T020000
TZOFFSETFROM:-0900
TZOFFSETTO:-0800
RDATE:20200308T020000
END:DAYLIGHT
END:VTIMEZONE
BEGIN:VEVENT
UID:f90bd258-90b0-4398-8842-04f7d39a9877
DTSTAMP:20260422T173446Z
DESCRIPTION:Shelly Hill\, licensed yoga instructor\, takes you through an a
 rtful\, mindful\, 1-hour yoga session. in the beautiful ambiance of the Ma
 in Street Gallery $5
DTSTART;TZID=America/Anchorage:20190516T173000
DTEND;TZID=America/Anchorage:20190516T183000
LOCATION:Main Street Gallery
SUMMARY:Artful Yoga
END:VEVENT
END:VCALENDAR
