BEGIN:VCALENDAR
VERSION:2.0
PRODID:-//www.ketchikanarts.org//NONSGML kigkonsult.se iCalcreator 2.30.10/
 /
CALSCALE:GREGORIAN
METHOD:PUBLISH
UID:1f8c0aca-0309-4c54-b109-ed9ff6edc97c
X-WR-CALDESC:Join Dave Rubin\, guitar\, Hannah Karrick\,violin\, and Chazz 
 Gist\, bass\, at the Cape Fox Lodge to listen to them perform.
X-WR-RELCALID:f2c06cdf9979e70e9166721f86c69251
X-WR-TIMEZONE:America/Anchorage
BEGIN:VTIMEZONE
TZID:America/Anchorage
BEGIN:STANDARD
TZNAME:AKST
DTSTART:20181104T020000
TZOFFSETFROM:-0800
TZOFFSETTO:-0900
RDATE:20191103T020000
RDATE:20201101T020000
END:STANDARD
BEGIN:DAYLIGHT
TZNAME:AKDT
DTSTART:20190310T020000
TZOFFSETFROM:-0900
TZOFFSETTO:-0800
RDATE:20200308T020000
END:DAYLIGHT
END:VTIMEZONE
BEGIN:VEVENT
UID:f3c71402-7fc4-47e0-bd45-f6126ffd7b7d
DTSTAMP:20260422T173320Z
DESCRIPTION:Join Dave Rubin\, guitar\, Hannah Karrick\,violin\, and Chazz G
 ist\, bass\, at the Cape Fox Lodge to listen to them perform.
DTSTART;TZID=America/Anchorage:20190516T170000
DTEND;TZID=America/Anchorage:20190516T203000
LOCATION:Cape Fox Lodge
SUMMARY:Live Music at Cape Fox
END:VEVENT
END:VCALENDAR
