BEGIN:VCALENDAR
VERSION:2.0
PRODID:-//www.ketchikanarts.org//NONSGML kigkonsult.se iCalcreator 2.30.10/
 /
CALSCALE:GREGORIAN
METHOD:PUBLISH
UID:04140b3d-76d4-4eca-a533-c57ab74b6d5a
X-WR-CALDESC:The Ketchikan Area Arts and Humanities Council Board of Direct
 ors meet the third Wednesday of the month at 5:30pm.
X-WR-RELCALID:d8a3ec10eae6dfaf1f58516ea0fcd44b
X-WR-TIMEZONE:America/Anchorage
BEGIN:VTIMEZONE
TZID:America/Anchorage
BEGIN:STANDARD
TZNAME:AKST
DTSTART:20181104T020000
TZOFFSETFROM:-0800
TZOFFSETTO:-0900
RDATE:20191103T020000
RDATE:20201101T020000
END:STANDARD
BEGIN:DAYLIGHT
TZNAME:AKDT
DTSTART:20190310T020000
TZOFFSETFROM:-0900
TZOFFSETTO:-0800
RDATE:20200308T020000
END:DAYLIGHT
END:VTIMEZONE
BEGIN:VEVENT
UID:e92567dd-e028-4b16-90fd-028b74f73a1f
DTSTAMP:20260422T173848Z
DESCRIPTION:The Ketchikan Area Arts and Humanities Council Board of Directo
 rs meet the third Wednesday of the month at 5:30pm.
DTSTART;TZID=America/Anchorage:20190515T173000
DTEND;TZID=America/Anchorage:20190515T190000
LOCATION:Main Street Gallery
SUMMARY:KAAHC Board of Directors meeting
END:VEVENT
END:VCALENDAR
