BEGIN:VCALENDAR
VERSION:2.0
PRODID:-//www.ketchikanarts.org//NONSGML kigkonsult.se iCalcreator 2.30.10/
 /
CALSCALE:GREGORIAN
METHOD:PUBLISH
UID:575d5e71-4fc2-4dee-89bd-c2440ac678b7
X-WR-CALDESC:
X-WR-RELCALID:ad2eb719a8461429a68141caefa21256
X-WR-TIMEZONE:America/Anchorage
BEGIN:VTIMEZONE
TZID:America/Anchorage
BEGIN:STANDARD
TZNAME:AKST
DTSTART:20181104T020000
TZOFFSETFROM:-0800
TZOFFSETTO:-0900
RDATE:20191103T020000
RDATE:20201101T020000
END:STANDARD
BEGIN:DAYLIGHT
TZNAME:AKDT
DTSTART:20190310T020000
TZOFFSETFROM:-0900
TZOFFSETTO:-0800
RDATE:20200308T020000
END:DAYLIGHT
END:VTIMEZONE
BEGIN:VEVENT
UID:74312782-8dab-4143-a373-603fa39ca121
DTSTAMP:20260422T173001Z
DESCRIPTION:
DTSTART;TZID=America/Anchorage:20190514T190000
DTEND;TZID=America/Anchorage:20190514T200000
LOCATION:Schoenbar Middle School Gym
SUMMARY:SMS Spring Concert
END:VEVENT
END:VCALENDAR
