BEGIN:VCALENDAR
VERSION:2.0
PRODID:-//www.ketchikanarts.org//NONSGML kigkonsult.se iCalcreator 2.30.10/
 /
CALSCALE:GREGORIAN
METHOD:PUBLISH
UID:7cdc3757-b515-4091-8f21-f1e470e029d2
X-WR-CALDESC:This business class is perfect for the artist who is contempla
 ting taking it to the next level. Instructor MJ Cadle partners with the Ke
 tchikan Indian Community\, Class topics include the business plan\, forms 
 of ownership\, licensing\, Insurance\, taxes\, accounting\, hiring\, and p
 ayroll. $40 scholarships are available. Call MJ at 254-3105\n6:00 - 8:00 p
 m\, May 14th\, KIC education and training classroom\, 615 Stedman St.\n
X-WR-RELCALID:e3c6fb3a5373f70ba4a3bcd40e1700f8
X-WR-TIMEZONE:America/Anchorage
BEGIN:VTIMEZONE
TZID:America/Anchorage
BEGIN:STANDARD
TZNAME:AKST
DTSTART:20181104T020000
TZOFFSETFROM:-0800
TZOFFSETTO:-0900
RDATE:20191103T020000
RDATE:20201101T020000
END:STANDARD
BEGIN:DAYLIGHT
TZNAME:AKDT
DTSTART:20190310T020000
TZOFFSETFROM:-0900
TZOFFSETTO:-0800
RDATE:20200308T020000
END:DAYLIGHT
END:VTIMEZONE
BEGIN:VEVENT
UID:d270e06d-6c8f-4729-b4b4-6499dfd98420
DTSTAMP:20260422T173258Z
DESCRIPTION:This business class is perfect for the artist who is contemplat
 ing taking it to the next level. Instructor MJ Cadle partners with the Ket
 chikan Indian Community\, Class topics include the business plan\, forms o
 f ownership\, licensing\, Insurance\, taxes\, accounting\, hiring\, and pa
 yroll. $40 scholarships are available. Call MJ at 254-3105\n6:00 - 8:00 pm
 \, May 14th\, KIC education and training classroom\, 615 Stedman St.\n
DTSTART;TZID=America/Anchorage:20190514T180000
DTEND;TZID=America/Anchorage:20190514T200000
LOCATION:KIC Ed and Training Center\, 615 Stedman Street
SUMMARY:Intro to Setting up a new Business
END:VEVENT
END:VCALENDAR
