BEGIN:VCALENDAR
VERSION:2.0
PRODID:-//www.ketchikanarts.org//NONSGML kigkonsult.se iCalcreator 2.30.10/
 /
CALSCALE:GREGORIAN
METHOD:PUBLISH
UID:cf22e493-7d1a-4cfb-8e55-c11e7fbe5182
X-WR-CALDESC:Join Windjammers Jazz BIG band led by Roy McPherson in this SE
 COND Spring extravaganza!!! If you missed it the first time- you get anoth
 er chance. Lots of new pieces to hear\, and some of the old favorites too.
  Seating is limited so get there early!\n$5 and a giant smile admission at
  the door.
X-WR-RELCALID:0258bb2df959bcd377660a4e63e20e8a
X-WR-TIMEZONE:America/Anchorage
BEGIN:VTIMEZONE
TZID:America/Anchorage
BEGIN:STANDARD
TZNAME:AKST
DTSTART:20181104T020000
TZOFFSETFROM:-0800
TZOFFSETTO:-0900
RDATE:20191103T020000
RDATE:20201101T020000
END:STANDARD
BEGIN:DAYLIGHT
TZNAME:AKDT
DTSTART:20190310T020000
TZOFFSETFROM:-0900
TZOFFSETTO:-0800
RDATE:20200308T020000
END:DAYLIGHT
END:VTIMEZONE
BEGIN:VEVENT
UID:5c91994b-57cc-4379-b79d-210dad48c0e7
DTSTAMP:20260422T173300Z
DESCRIPTION:Join Windjammers Jazz BIG band led by Roy McPherson in this SEC
 OND Spring extravaganza!!! If you missed it the first time- you get anothe
 r chance. Lots of new pieces to hear\, and some of the old favorites too. 
 Seating is limited so get there early!\n$5 and a giant smile admission at 
 the door.
DTSTART;TZID=America/Anchorage:20190511T190000
DTEND;TZID=America/Anchorage:20190511T210000
LOCATION:Creek Street Cabaret
SUMMARY:Windjammers at Creek Street Cabaret!!!!
END:VEVENT
END:VCALENDAR
