BEGIN:VCALENDAR
VERSION:2.0
PRODID:-//www.ketchikanarts.org//NONSGML kigkonsult.se iCalcreator 2.30.10/
 /
CALSCALE:GREGORIAN
METHOD:PUBLISH
UID:72c9b4a6-cf6f-40b3-8519-ba7d91dd3a69
X-WR-CALDESC:Race begins at 8:00 am (for walkers) and 9:00 am (for runners)
  13.1 miles\n$65.00 T-Shirt and Medal included registration opens November
  1 and can sign up on active.com
X-WR-RELCALID:93e2b283f47c7dfd175b7f7afcbf1bf1
X-WR-TIMEZONE:America/Anchorage
BEGIN:VTIMEZONE
TZID:America/Anchorage
BEGIN:STANDARD
TZNAME:AKST
DTSTART:20181104T020000
TZOFFSETFROM:-0800
TZOFFSETTO:-0900
RDATE:20191103T020000
RDATE:20201101T020000
END:STANDARD
BEGIN:DAYLIGHT
TZNAME:AKDT
DTSTART:20190310T020000
TZOFFSETFROM:-0900
TZOFFSETTO:-0800
RDATE:20200308T020000
END:DAYLIGHT
END:VTIMEZONE
BEGIN:VEVENT
UID:9c770062-24cf-4437-baad-c07919105702
DTSTAMP:20260422T173258Z
DESCRIPTION:Race begins at 8:00 am (for walkers) and 9:00 am (for runners) 
 13.1 miles\n$65.00 T-Shirt and Medal included registration opens November 
 1 and can sign up on active.com
DTSTART;TZID=America/Anchorage:20190511T080000
DTEND;TZID=America/Anchorage:20190511T090000
LOCATION:Rotary Beach Start
SUMMARY:Totem to Totem Half Marathon
END:VEVENT
END:VCALENDAR
