BEGIN:VCALENDAR
VERSION:2.0
PRODID:-//www.ketchikanarts.org//NONSGML kigkonsult.se iCalcreator 2.30.10/
 /
CALSCALE:GREGORIAN
METHOD:PUBLISH
UID:1d1049de-afa2-43f6-8a0d-9a34357203b4
X-WR-CALDESC:The culminating event of a season of dance! \nEvening Performa
 nces (older Dancers) Tickets: Adults $18\, Student/Senior/Military $12\, F
 amily Pack $50\n7:30 pm - 9:00 May 10th\n7:30 pm - 9:00 May 11th \n\nMatin
 ee Performance (youngest Dancers) Tickets: $12\n2:00 pm -3:30 May 12th
X-WR-RELCALID:29835294b6fd552b33a66051f69e3234
X-WR-TIMEZONE:America/Anchorage
BEGIN:VTIMEZONE
TZID:America/Anchorage
BEGIN:STANDARD
TZNAME:AKST
DTSTART:20181104T020000
TZOFFSETFROM:-0800
TZOFFSETTO:-0900
RDATE:20191103T020000
RDATE:20201101T020000
END:STANDARD
BEGIN:DAYLIGHT
TZNAME:AKDT
DTSTART:20190310T020000
TZOFFSETFROM:-0900
TZOFFSETTO:-0800
RDATE:20200308T020000
END:DAYLIGHT
END:VTIMEZONE
BEGIN:VEVENT
UID:cee99786-1b4c-4e23-a9ff-0d5e62b173f3
DTSTAMP:20260422T172924Z
DESCRIPTION:The culminating event of a season of dance! \nEvening Performan
 ces (older Dancers) Tickets: Adults $18\, Student/Senior/Military $12\, Fa
 mily Pack $50\n7:30 pm - 9:00 May 10th\n7:30 pm - 9:00 May 11th \n\nMatine
 e Performance (youngest Dancers) Tickets: $12\n2:00 pm -3:30 May 12th
DTSTART;TZID=America/Anchorage:20190511T193000
DTEND;TZID=America/Anchorage:20190511T213000
LOCATION:Ketchikan High School
SUMMARY:Spring Gala
END:VEVENT
END:VCALENDAR
