BEGIN:VCALENDAR
VERSION:2.0
PRODID:-//www.ketchikanarts.org//NONSGML kigkonsult.se iCalcreator 2.30.10/
 /
CALSCALE:GREGORIAN
METHOD:PUBLISH
UID:df0b9be8-07de-48ff-84f9-31b586ab8b51
X-WR-CALDESC:Join the nonprofits of Ketchikan as we discuss group projects\
 , professional and organizational development opportunities\, and advocacy
 !
X-WR-RELCALID:db89b98cd236912d7e2c401a86cd7a0d
X-WR-TIMEZONE:America/Anchorage
BEGIN:VTIMEZONE
TZID:America/Anchorage
BEGIN:STANDARD
TZNAME:AKST
DTSTART:20181104T020000
TZOFFSETFROM:-0800
TZOFFSETTO:-0900
RDATE:20191103T020000
RDATE:20201101T020000
END:STANDARD
BEGIN:DAYLIGHT
TZNAME:AKDT
DTSTART:20190310T020000
TZOFFSETFROM:-0900
TZOFFSETTO:-0800
RDATE:20200308T020000
END:DAYLIGHT
END:VTIMEZONE
BEGIN:VEVENT
UID:2c456fc3-5353-46eb-b9a4-02d05f909577
DTSTAMP:20260422T173422Z
DESCRIPTION:Join the nonprofits of Ketchikan as we discuss group projects\,
  professional and organizational development opportunities\, and advocacy!
DTSTART;TZID=America/Anchorage:20190509T150000
DTEND;TZID=America/Anchorage:20190509T160000
LOCATION:Ketchikan Wellness Coalition Office
SUMMARY:Strengthening Nonprofit Collaborative
END:VEVENT
END:VCALENDAR
