BEGIN:VCALENDAR
VERSION:2.0
PRODID:-//www.ketchikanarts.org//NONSGML kigkonsult.se iCalcreator 2.30.10/
 /
CALSCALE:GREGORIAN
METHOD:PUBLISH
UID:2ce8ae3e-14a3-4720-99eb-38aba80d4f11
X-WR-CALDESC:'On the High Seas with Marian Call' Concert and Cruise boards 
 at 5:30pm at the Allen Marine Dock and the cruise casts off at 6:00pm. Joi
 ning Marian Call are musicians Laura Zahasky\, guitar\; Austin Hays\, drum
 s\; and Chazz Gist\, bass. Tickets are $75 and include the concert\, cruis
 e finger food\, and hopefully a BEAUTIFUL sunset!. No-host bar. You can ca
 ll 225-9655 or drop by KRBD offices for tickets.
X-WR-RELCALID:f3e8b5c7feb9dae03fcd03eb91d2c720
X-WR-TIMEZONE:America/Anchorage
BEGIN:VTIMEZONE
TZID:America/Anchorage
BEGIN:STANDARD
TZNAME:AKST
DTSTART:20181104T020000
TZOFFSETFROM:-0800
TZOFFSETTO:-0900
RDATE:20191103T020000
RDATE:20201101T020000
END:STANDARD
BEGIN:DAYLIGHT
TZNAME:AKDT
DTSTART:20190310T020000
TZOFFSETFROM:-0900
TZOFFSETTO:-0800
RDATE:20200308T020000
END:DAYLIGHT
END:VTIMEZONE
BEGIN:VEVENT
UID:5536cbf0-4267-420c-8782-473c87928992
DTSTAMP:20260422T173415Z
DESCRIPTION:'On the High Seas with Marian Call' Concert and Cruise boards a
 t 5:30pm at the Allen Marine Dock and the cruise casts off at 6:00pm. Join
 ing Marian Call are musicians Laura Zahasky\, guitar\; Austin Hays\, drums
 \; and Chazz Gist\, bass. Tickets are $75 and include the concert\, cruise
  finger food\, and hopefully a BEAUTIFUL sunset!. No-host bar. You can cal
 l 225-9655 or drop by KRBD offices for tickets.
DTSTART;TZID=America/Anchorage:20190504T173000
DTEND;TZID=America/Anchorage:20190504T213000
LOCATION:Daly Float - Allen Marine
SUMMARY:KRBD Presents 'On the High Seas' with Marian Call
END:VEVENT
END:VCALENDAR
