BEGIN:VCALENDAR
VERSION:2.0
PRODID:-//www.ketchikanarts.org//NONSGML kigkonsult.se iCalcreator 2.30.10/
 /
CALSCALE:GREGORIAN
METHOD:PUBLISH
UID:86773c10-e87d-4e09-b860-d70efd742e01
X-WR-CALDESC:'Merge: Human + Machine' features new works from artist Evon Z
 erbetz as she considers mechanical and organic themes in dimensional linoc
 ut constructions.
X-WR-RELCALID:20cc85861e4f6259269e1169e8aa91d3
X-WR-TIMEZONE:America/Anchorage
BEGIN:VTIMEZONE
TZID:America/Anchorage
BEGIN:STANDARD
TZNAME:AKST
DTSTART:20181104T020000
TZOFFSETFROM:-0800
TZOFFSETTO:-0900
RDATE:20191103T020000
RDATE:20201101T020000
END:STANDARD
BEGIN:DAYLIGHT
TZNAME:AKDT
DTSTART:20190310T020000
TZOFFSETFROM:-0900
TZOFFSETTO:-0800
RDATE:20200308T020000
END:DAYLIGHT
END:VTIMEZONE
BEGIN:VEVENT
UID:19b1f7dd-fb14-4465-987c-e4b7e6300fcf
DTSTAMP:20260422T173731Z
DESCRIPTION:'Merge: Human + Machine' features new works from artist Evon Ze
 rbetz as she considers mechanical and organic themes in dimensional linocu
 t constructions.
DTSTART;TZID=America/Anchorage:20190504T110000
DTEND;TZID=America/Anchorage:20190531T170000
LOCATION:Main Street Gallery
SUMMARY:'Merge: Human + Machine' Main Street Gallery Exhibit
END:VEVENT
END:VCALENDAR
