BEGIN:VCALENDAR
VERSION:2.0
PRODID:-//www.ketchikanarts.org//NONSGML kigkonsult.se iCalcreator 2.30.10/
 /
CALSCALE:GREGORIAN
METHOD:PUBLISH
UID:981cc6f6-eeb6-470a-a5d9-4b1a6f44d39f
X-WR-CALDESC:Join us for the Opening Reception of MERGE: \nAn exhibit by Ev
 on Zerbetz features new ephemeral installations created from linocut print
 making.\nEvon’s exhibit is named after the first series of works she creat
 ed for the show\, MERGE: The Giants of Engineering. \nShe then created fou
 r\, seemingly disparate\, installations\, which have loose threads that co
 nnect them to one another. The viewer may make connections\, or simply exp
 erience the pieces on their own. \n\nThe installations in merge\, which re
 flect her interests in the energy systems of the human and the environment
 \, were created as part of Evon’s continuing work in creating larger artwo
 rks from her linocuts.\n\nWhen you walk in to the gallery\, you will want 
 to appreciate that the hundreds of small linocuts that make up a piece\, a
 re each hand printed from her carved blocks. \n\n\n\nMain Street Gallery o
 penings are always the first Friday of the month\, and are free and open t
 o the public.
X-WR-RELCALID:86a4d1090e09b5d00253de27526dfcdb
X-WR-TIMEZONE:America/Anchorage
BEGIN:VTIMEZONE
TZID:America/Anchorage
BEGIN:STANDARD
TZNAME:AKST
DTSTART:20181104T020000
TZOFFSETFROM:-0800
TZOFFSETTO:-0900
RDATE:20191103T020000
RDATE:20201101T020000
END:STANDARD
BEGIN:DAYLIGHT
TZNAME:AKDT
DTSTART:20190310T020000
TZOFFSETFROM:-0900
TZOFFSETTO:-0800
RDATE:20200308T020000
END:DAYLIGHT
END:VTIMEZONE
BEGIN:VEVENT
UID:53578c0f-a965-45c9-a13a-331ff0fb10dc
DTSTAMP:20260422T173133Z
DESCRIPTION:Join us for the Opening Reception of MERGE: \nAn exhibit by Evo
 n Zerbetz features new ephemeral installations created from linocut printm
 aking.\nEvon’s exhibit is named after the first series of works she create
 d for the show\, MERGE: The Giants of Engineering. \nShe then created four
 \, seemingly disparate\, installations\, which have loose threads that con
 nect them to one another. The viewer may make connections\, or simply expe
 rience the pieces on their own. \n\nThe installations in merge\, which ref
 lect her interests in the energy systems of the human and the environment\
 , were created as part of Evon’s continuing work in creating larger artwor
 ks from her linocuts.\n\nWhen you walk in to the gallery\, you will want t
 o appreciate that the hundreds of small linocuts that make up a piece\, ar
 e each hand printed from her carved blocks. \n\n\n\nMain Street Gallery op
 enings are always the first Friday of the month\, and are free and open to
  the public.
DTSTART;TZID=America/Anchorage:20190503T170000
DTEND;TZID=America/Anchorage:20190503T200000
LOCATION:Main Street Gallery
SUMMARY:Opening Reception - Evon Zerbetz\, MERGE
END:VEVENT
END:VCALENDAR
