BEGIN:VCALENDAR
VERSION:2.0
PRODID:-//www.ketchikanarts.org//NONSGML kigkonsult.se iCalcreator 2.30.10/
 /
CALSCALE:GREGORIAN
METHOD:PUBLISH
UID:f5ca3a17-6394-4fe2-895f-d44ad0b9e602
X-WR-CALDESC:Barbara Morgan shares her expertise of Alaskan Wildflowers
X-WR-RELCALID:51513e6d77f98bd93c76234ce50ca011
X-WR-TIMEZONE:America/Anchorage
BEGIN:VTIMEZONE
TZID:America/Anchorage
BEGIN:STANDARD
TZNAME:AKST
DTSTART:20181104T020000
TZOFFSETFROM:-0800
TZOFFSETTO:-0900
RDATE:20191103T020000
END:STANDARD
BEGIN:DAYLIGHT
TZNAME:AKDT
DTSTART:20190310T020000
TZOFFSETFROM:-0900
TZOFFSETTO:-0800
RDATE:20200308T020000
END:DAYLIGHT
END:VTIMEZONE
BEGIN:VEVENT
UID:30fc69ab-b691-41df-80f5-483d6f1f6cb7
DTSTAMP:20260422T173124Z
DESCRIPTION:Barbara Morgan shares her expertise of Alaskan Wildflowers
DTSTART;TZID=America/Anchorage:20190502T183000
DTEND;TZID=America/Anchorage:20190502T200000
LOCATION:UAS Ketchikan Campus Library
SUMMARY:Alaska Wildflowers
END:VEVENT
END:VCALENDAR
