BEGIN:VCALENDAR
VERSION:2.0
PRODID:-//www.ketchikanarts.org//NONSGML kigkonsult.se iCalcreator 2.30.10/
 /
CALSCALE:GREGORIAN
METHOD:PUBLISH
UID:75eb7903-666b-41c1-9df8-0199aa4cf1a6
X-WR-CALDESC:Call to Youth Artist in the Exhibition of 'Celebrate the West'
  \n\n'Celebrate the West' is open to high school students from Alaska\, Am
 erican Samoa\, Arizona\, California\, Colorado\, Guam\, Hawaii\, Idaho\, M
 ontana\, Nevada\, New Mexico\, North Dakota\, Northern Mariana Islands\, O
 klahoma\, Oregon\, South Dakota\, Utah\, Washington\, and Wyoming.
X-WR-RELCALID:76fc7767efb86ca2d53beaad10071fe9
X-WR-TIMEZONE:America/Anchorage
BEGIN:VTIMEZONE
TZID:America/Anchorage
BEGIN:STANDARD
TZNAME:AKST
DTSTART:20181104T020000
TZOFFSETFROM:-0800
TZOFFSETTO:-0900
RDATE:20191103T020000
END:STANDARD
BEGIN:DAYLIGHT
TZNAME:AKDT
DTSTART:20190310T020000
TZOFFSETFROM:-0900
TZOFFSETTO:-0800
RDATE:20200308T020000
END:DAYLIGHT
END:VTIMEZONE
BEGIN:VEVENT
UID:3a35ba8a-8c90-4352-8813-0f5f70402e65
DTSTAMP:20260422T191701Z
DESCRIPTION:Call to Youth Artist in the Exhibition of 'Celebrate the West' 
 \n\n'Celebrate the West' is open to high school students from Alaska\, Ame
 rican Samoa\, Arizona\, California\, Colorado\, Guam\, Hawaii\, Idaho\, Mo
 ntana\, Nevada\, New Mexico\, North Dakota\, Northern Mariana Islands\, Ok
 lahoma\, Oregon\, South Dakota\, Utah\, Washington\, and Wyoming.
DTSTART;TZID=America/Anchorage:20190430T080000
DTEND;TZID=America/Anchorage:20190430T170000
LOCATION:Denver CO
SUMMARY:Call to Artists -Celebrate the West: High School Art Competition 20
 19
END:VEVENT
END:VCALENDAR
