BEGIN:VCALENDAR
VERSION:2.0
PRODID:-//www.ketchikanarts.org//NONSGML kigkonsult.se iCalcreator 2.30.10/
 /
CALSCALE:GREGORIAN
METHOD:PUBLISH
UID:94324119-7351-4a59-97df-d4b073632e5b
X-WR-CALDESC:Doors open at 6:00pm at the Main Street Gallery\n\nSwing 101 6
 :15-6:55pm $5\nSwing 2     7:00-7:30pm $7\n\nCatch the bug..of dancing. Sw
 ing season is here!
X-WR-RELCALID:ebe6c7e88b25b596406889ff2424a2b5
X-WR-TIMEZONE:America/Anchorage
BEGIN:VTIMEZONE
TZID:America/Anchorage
BEGIN:STANDARD
TZNAME:AKST
DTSTART:20181104T020000
TZOFFSETFROM:-0800
TZOFFSETTO:-0900
RDATE:20191103T020000
END:STANDARD
BEGIN:DAYLIGHT
TZNAME:AKDT
DTSTART:20190310T020000
TZOFFSETFROM:-0900
TZOFFSETTO:-0800
RDATE:20200308T020000
END:DAYLIGHT
END:VTIMEZONE
BEGIN:VEVENT
UID:786b424f-cafe-43e3-8e62-ad9544e3b988
DTSTAMP:20260422T191411Z
DESCRIPTION:Doors open at 6:00pm at the Main Street Gallery\n\nSwing 101 6:
 15-6:55pm $5\nSwing 2     7:00-7:30pm $7\n\nCatch the bug..of dancing. Swi
 ng season is here!
DTSTART;TZID=America/Anchorage:20190429T181500
DTEND;TZID=America/Anchorage:20190429T193000
LOCATION:Main Street Gallery
SUMMARY:BOOMbal Dance Hall - Swing 101 & Swing 2
END:VEVENT
END:VCALENDAR
