BEGIN:VCALENDAR
VERSION:2.0
PRODID:-//www.ketchikanarts.org//NONSGML kigkonsult.se iCalcreator 2.30.10/
 /
CALSCALE:GREGORIAN
METHOD:PUBLISH
UID:6fa8c0f1-aef6-433a-9653-1236199b6f37
X-WR-CALDESC:Free Manga Drawing Class with instructor Ema Oshima. Supplies 
 provided. Call 225-3331 for more information.
X-WR-RELCALID:66f84087a5dd88cbd2d3639d9919e08f
X-WR-TIMEZONE:America/Anchorage
BEGIN:VTIMEZONE
TZID:America/Anchorage
BEGIN:STANDARD
TZNAME:AKST
DTSTART:20181104T020000
TZOFFSETFROM:-0800
TZOFFSETTO:-0900
RDATE:20191103T020000
END:STANDARD
BEGIN:DAYLIGHT
TZNAME:AKDT
DTSTART:20190310T020000
TZOFFSETFROM:-0900
TZOFFSETTO:-0800
RDATE:20200308T020000
END:DAYLIGHT
END:VTIMEZONE
BEGIN:VEVENT
UID:71bcb1c9-fcbd-4dc8-98f7-8caf8237b609
DTSTAMP:20260422T191446Z
DESCRIPTION:Free Manga Drawing Class with instructor Ema Oshima. Supplies p
 rovided. Call 225-3331 for more information.
DTSTART;TZID=America/Anchorage:20190429T163000
DTEND;TZID=America/Anchorage:20190429T173000
LOCATION:Ketchikan Public Library
SUMMARY:Manga Drawing Class Adult
END:VEVENT
END:VCALENDAR
