BEGIN:VCALENDAR
VERSION:2.0
PRODID:-//www.ketchikanarts.org//NONSGML kigkonsult.se iCalcreator 2.30.10/
 /
CALSCALE:GREGORIAN
METHOD:PUBLISH
UID:78dce4f6-052c-480f-a881-baf3757ae9b3
X-WR-CALDESC:Free Manga Drawing Class for Kids\, with instructor Ema Oshima
 . Supplies provided\, please call 225-3331 for more information.
X-WR-RELCALID:01ea9144c62e27a42eead5fba68cc6d1
X-WR-TIMEZONE:America/Anchorage
BEGIN:VTIMEZONE
TZID:America/Anchorage
BEGIN:STANDARD
TZNAME:AKST
DTSTART:20181104T020000
TZOFFSETFROM:-0800
TZOFFSETTO:-0900
RDATE:20191103T020000
END:STANDARD
BEGIN:DAYLIGHT
TZNAME:AKDT
DTSTART:20190310T020000
TZOFFSETFROM:-0900
TZOFFSETTO:-0800
RDATE:20200308T020000
END:DAYLIGHT
END:VTIMEZONE
BEGIN:VEVENT
UID:206d0382-8a50-436f-b23a-4e7c27c45447
DTSTAMP:20260422T190033Z
DESCRIPTION:Free Manga Drawing Class for Kids\, with instructor Ema Oshima.
  Supplies provided\, please call 225-3331 for more information.
DTSTART;TZID=America/Anchorage:20190429T153000
DTEND;TZID=America/Anchorage:20190429T163000
LOCATION:Ketchikan Public Library
SUMMARY:Manga Drawing Class
END:VEVENT
END:VCALENDAR
