BEGIN:VCALENDAR
VERSION:2.0
PRODID:-//www.ketchikanarts.org//NONSGML kigkonsult.se iCalcreator 2.30.10/
 /
CALSCALE:GREGORIAN
METHOD:PUBLISH
UID:c7f34a08-8872-4fab-96a9-5b4ac503d1d9
X-WR-CALDESC:A triumphant return of the Ketchikan Community Concert Band's 
 'Collage Concert' from 2017!!!! This performance will feature the Band  AN
 D musicians in small ensembles from the community. Don't miss this Spring 
 extravaganza! Doors open at 6pm and feature a no hot bar\, heavy hors d'oe
 uvres catered by the New York Cafe\, and live jazz music. the concert begi
 ns at 7pm. $30 tickets for adults\, $15 for youth and military. All seats 
 are reserved. Tickets are available at the Arts Council and Bernies. Call 
  225-2211 to purchase you tickets!
X-WR-RELCALID:82f17825f75c0dc6a4c8b634a10f01bc
X-WR-TIMEZONE:America/Anchorage
BEGIN:VTIMEZONE
TZID:America/Anchorage
BEGIN:STANDARD
TZNAME:AKST
DTSTART:20181104T020000
TZOFFSETFROM:-0800
TZOFFSETTO:-0900
RDATE:20191103T020000
END:STANDARD
BEGIN:DAYLIGHT
TZNAME:AKDT
DTSTART:20190310T020000
TZOFFSETFROM:-0900
TZOFFSETTO:-0800
RDATE:20200308T020000
END:DAYLIGHT
END:VTIMEZONE
BEGIN:VEVENT
UID:d2c32af5-5370-41e3-a18f-e0635e55390a
DTSTAMP:20260422T191614Z
DESCRIPTION:A triumphant return of the Ketchikan Community Concert Band's '
 Collage Concert' from 2017!!!! This performance will feature the Band  AND
  musicians in small ensembles from the community. Don't miss this Spring e
 xtravaganza! Doors open at 6pm and feature a no hot bar\, heavy hors d'oeu
 vres catered by the New York Cafe\, and live jazz music. the concert begin
 s at 7pm. $30 tickets for adults\, $15 for youth and military. All seats a
 re reserved. Tickets are available at the Arts Council and Bernies. Call  
 225-2211 to purchase you tickets!
DTSTART;TZID=America/Anchorage:20190427T180000
DTEND;TZID=America/Anchorage:20190427T200000
LOCATION:Ted Ferry Civic Center
SUMMARY:Ketchikan Community Concert Band Presents - 'Collage Concert II'
END:VEVENT
END:VCALENDAR
