BEGIN:VCALENDAR
VERSION:2.0
PRODID:-//www.ketchikanarts.org//NONSGML kigkonsult.se iCalcreator 2.30.10/
 /
CALSCALE:GREGORIAN
METHOD:PUBLISH
UID:c4699094-b14a-44a5-91e8-93f6288b922a
X-WR-CALDESC:Drop in Write Session. There will be s'mores\, games\, and wri
 ting themed improve. Call the Library for more info
X-WR-RELCALID:f79273d0186f6b11aec69de06d1e863e
X-WR-TIMEZONE:America/Anchorage
BEGIN:VTIMEZONE
TZID:America/Anchorage
BEGIN:STANDARD
TZNAME:AKST
DTSTART:20181104T020000
TZOFFSETFROM:-0800
TZOFFSETTO:-0900
RDATE:20191103T020000
END:STANDARD
BEGIN:DAYLIGHT
TZNAME:AKDT
DTSTART:20190310T020000
TZOFFSETFROM:-0900
TZOFFSETTO:-0800
RDATE:20200308T020000
END:DAYLIGHT
END:VTIMEZONE
BEGIN:VEVENT
UID:4650facd-814c-429a-8310-73ab847314b7
DTSTAMP:20260422T191020Z
DESCRIPTION:Drop in Write Session. There will be s'mores\, games\, and writ
 ing themed improve. Call the Library for more info
DTSTART;TZID=America/Anchorage:20190427T120000
DTEND;TZID=America/Anchorage:20190427T173000
LOCATION:Ketchikan Public Library
SUMMARY:Camp Nanowrimo
END:VEVENT
END:VCALENDAR
