BEGIN:VCALENDAR
VERSION:2.0
PRODID:-//www.ketchikanarts.org//NONSGML kigkonsult.se iCalcreator 2.30.10/
 /
CALSCALE:GREGORIAN
METHOD:PUBLISH
UID:97a07760-1b46-4a9b-8a46-b2289bc74ed6
X-WR-CALDESC:Make and take two ceramic tile dot mandalas.
X-WR-RELCALID:52021b3f69212796cabcd8c0b6aaf3d2
X-WR-TIMEZONE:America/Anchorage
BEGIN:VTIMEZONE
TZID:America/Anchorage
BEGIN:STANDARD
TZNAME:AKST
DTSTART:20181104T020000
TZOFFSETFROM:-0800
TZOFFSETTO:-0900
RDATE:20191103T020000
END:STANDARD
BEGIN:DAYLIGHT
TZNAME:AKDT
DTSTART:20190310T020000
TZOFFSETFROM:-0900
TZOFFSETTO:-0800
RDATE:20200308T020000
END:DAYLIGHT
END:VTIMEZONE
BEGIN:VEVENT
UID:04235888-21fe-480a-ba53-22c2d1702d30
DTSTAMP:20260422T191239Z
DESCRIPTION:Make and take two ceramic tile dot mandalas.
DTSTART;TZID=America/Anchorage:20190427T150000
DTEND;TZID=America/Anchorage:20190427T170000
LOCATION:Vibrance - at the Plaza Mall
SUMMARY:'Intro to Dot Mandalas' at Vibrance - a Creative Space
END:VEVENT
END:VCALENDAR
