BEGIN:VCALENDAR
VERSION:2.0
PRODID:-//www.ketchikanarts.org//NONSGML kigkonsult.se iCalcreator 2.30.10/
 /
CALSCALE:GREGORIAN
METHOD:PUBLISH
UID:98c27396-5cc2-4df2-8cbc-bd4155cb1c3e
X-WR-CALDESC:
X-WR-RELCALID:5e2fbfbefba3767fcd16e78e8ac4918c
X-WR-TIMEZONE:America/Anchorage
BEGIN:VTIMEZONE
TZID:America/Anchorage
BEGIN:STANDARD
TZNAME:AKST
DTSTART:20181104T020000
TZOFFSETFROM:-0800
TZOFFSETTO:-0900
RDATE:20191103T020000
END:STANDARD
BEGIN:DAYLIGHT
TZNAME:AKDT
DTSTART:20190310T020000
TZOFFSETFROM:-0900
TZOFFSETTO:-0800
RDATE:20200308T020000
END:DAYLIGHT
END:VTIMEZONE
BEGIN:VEVENT
UID:3efe0a8a-7baa-40c4-90d0-b6594e6c7c99
DTSTAMP:20260422T184921Z
DESCRIPTION:
DTSTART;TZID=America/Anchorage:20190426T180000
DTEND;TZID=America/Anchorage:20190426T200000
LOCATION:Vibrance a Creative Space
SUMMARY:Succulent Gardens
END:VEVENT
END:VCALENDAR
