BEGIN:VCALENDAR
VERSION:2.0
PRODID:-//www.ketchikanarts.org//NONSGML kigkonsult.se iCalcreator 2.30.10/
 /
CALSCALE:GREGORIAN
METHOD:PUBLISH
UID:387d5014-be96-4374-a1dd-0ca31a1a9be3
X-WR-CALDESC:Shelly Hill\, licensed yoga instructor\, takes you through an 
 artful\, mindful\, 1-hour yoga session. in the beautiful ambiance of the M
 ain Street Gallery $5
X-WR-RELCALID:d58787793de63d457341f535722c1a5d
X-WR-TIMEZONE:America/Anchorage
BEGIN:VTIMEZONE
TZID:America/Anchorage
BEGIN:STANDARD
TZNAME:AKST
DTSTART:20181104T020000
TZOFFSETFROM:-0800
TZOFFSETTO:-0900
RDATE:20191103T020000
END:STANDARD
BEGIN:DAYLIGHT
TZNAME:AKDT
DTSTART:20190310T020000
TZOFFSETFROM:-0900
TZOFFSETTO:-0800
RDATE:20200308T020000
END:DAYLIGHT
END:VTIMEZONE
BEGIN:VEVENT
UID:2c03705a-8fa0-4c3a-9799-fcfc2d1a7c98
DTSTAMP:20260422T191543Z
DESCRIPTION:Shelly Hill\, licensed yoga instructor\, takes you through an a
 rtful\, mindful\, 1-hour yoga session. in the beautiful ambiance of the Ma
 in Street Gallery $5
DTSTART;TZID=America/Anchorage:20190425T173000
DTEND;TZID=America/Anchorage:20190425T183000
LOCATION:Main Street Gallery
SUMMARY:Artful Yoga
END:VEVENT
END:VCALENDAR
