BEGIN:VCALENDAR
VERSION:2.0
PRODID:-//www.ketchikanarts.org//NONSGML kigkonsult.se iCalcreator 2.30.10/
 /
CALSCALE:GREGORIAN
METHOD:PUBLISH
UID:c334a458-df1c-4876-95a3-b2e6b813f7ac
X-WR-CALDESC:Join Dave Rubin\, guitar\, Hannah Karrick\,violin\, and Chazz 
 Gist\, bass\, at the Cape Fox Lodge to listen to them perform.
X-WR-RELCALID:b9d5e3a23b701da174aec49d4a5e8c51
X-WR-TIMEZONE:America/Anchorage
BEGIN:VTIMEZONE
TZID:America/Anchorage
BEGIN:STANDARD
TZNAME:AKST
DTSTART:20181104T020000
TZOFFSETFROM:-0800
TZOFFSETTO:-0900
RDATE:20191103T020000
END:STANDARD
BEGIN:DAYLIGHT
TZNAME:AKDT
DTSTART:20190310T020000
TZOFFSETFROM:-0900
TZOFFSETTO:-0800
RDATE:20200308T020000
END:DAYLIGHT
END:VTIMEZONE
BEGIN:VEVENT
UID:65eb19ba-0fc1-493f-97c0-101e46b82de8
DTSTAMP:20260422T191447Z
DESCRIPTION:Join Dave Rubin\, guitar\, Hannah Karrick\,violin\, and Chazz G
 ist\, bass\, at the Cape Fox Lodge to listen to them perform.
DTSTART;TZID=America/Anchorage:20190425T170000
DTEND;TZID=America/Anchorage:20190425T203000
LOCATION:Cape Fox Lodge
SUMMARY:Live Music at Cape Fox
END:VEVENT
END:VCALENDAR
