BEGIN:VCALENDAR
VERSION:2.0
PRODID:-//www.ketchikanarts.org//NONSGML kigkonsult.se iCalcreator 2.30.10/
 /
CALSCALE:GREGORIAN
METHOD:PUBLISH
UID:d907c39e-e61c-4156-9ecb-9b8bead51704
X-WR-CALDESC:Write a short story! Drop-In Writes and General Group Writing 
 Workshops will be held every Thursday in April at the Ketchikan Public Lib
 rary.
X-WR-RELCALID:1173d6b0a22e806de7769b7550e6e290
X-WR-TIMEZONE:America/Anchorage
BEGIN:VTIMEZONE
TZID:America/Anchorage
BEGIN:STANDARD
TZNAME:AKST
DTSTART:20181104T020000
TZOFFSETFROM:-0800
TZOFFSETTO:-0900
RDATE:20191103T020000
END:STANDARD
BEGIN:DAYLIGHT
TZNAME:AKDT
DTSTART:20190310T020000
TZOFFSETFROM:-0900
TZOFFSETTO:-0800
RDATE:20200308T020000
END:DAYLIGHT
END:VTIMEZONE
BEGIN:VEVENT
UID:aecc3b0b-154c-4498-9c18-6cf0e7f099e1
DTSTAMP:20260422T191420Z
DESCRIPTION:Write a short story! Drop-In Writes and General Group Writing W
 orkshops will be held every Thursday in April at the Ketchikan Public Libr
 ary.
DTSTART;TZID=America/Anchorage:20190425T140000
DTEND;TZID=America/Anchorage:20190425T170000
LOCATION:Ketchikan Public Library
SUMMARY:Camp Nanowrimo
END:VEVENT
END:VCALENDAR
