BEGIN:VCALENDAR
VERSION:2.0
PRODID:-//www.ketchikanarts.org//NONSGML kigkonsult.se iCalcreator 2.30.10/
 /
CALSCALE:GREGORIAN
METHOD:PUBLISH
UID:cf952e30-88d0-4a1c-ba3a-001157c3bc5e
X-WR-CALDESC:This meeting is the Rainy Day Quilt guild is a monthly meeting
 . The group meets in the basement room of the church beginning at 6:30pm o
 n the 4th Tuesday of the month.
X-WR-RELCALID:649e052028540194d1d43a3ad54464cb
X-WR-TIMEZONE:America/Anchorage
BEGIN:VTIMEZONE
TZID:America/Anchorage
BEGIN:STANDARD
TZNAME:AKST
DTSTART:20181104T020000
TZOFFSETFROM:-0800
TZOFFSETTO:-0900
RDATE:20191103T020000
END:STANDARD
BEGIN:DAYLIGHT
TZNAME:AKDT
DTSTART:20190310T020000
TZOFFSETFROM:-0900
TZOFFSETTO:-0800
RDATE:20200308T020000
END:DAYLIGHT
END:VTIMEZONE
BEGIN:VEVENT
UID:96f049be-5612-4022-8464-af491e52f9f5
DTSTAMP:20260422T191543Z
DESCRIPTION:This meeting is the Rainy Day Quilt guild is a monthly meeting.
  The group meets in the basement room of the church beginning at 6:30pm on
  the 4th Tuesday of the month.
DTSTART;TZID=America/Anchorage:20190423T183000
DTEND;TZID=America/Anchorage:20190423T200000
LOCATION:Holy Name Catholic Church
SUMMARY:Rainy Day Quilt Guild Monthly Meeting
END:VEVENT
END:VCALENDAR
