BEGIN:VCALENDAR
VERSION:2.0
PRODID:-//www.ketchikanarts.org//NONSGML kigkonsult.se iCalcreator 2.30.10/
 /
CALSCALE:GREGORIAN
METHOD:PUBLISH
UID:707a342e-d029-4ce4-a62e-88845a7382c6
X-WR-CALDESC:The Ketchikan Community Concert Band meets each Monday evening
  from 7 to 8:30pm. Directed by Roy McPherson\, the Band performs 3 times a
 nnually. If you  are interested in being in the band pleas call Roy at 907
 -225-3650. \n\nThe Spring performance is April 27th at the Ted Ferry civic
  Center. Titles 'Collage Concert II' will be held at the Ted Ferry Civic C
 enter. This performance in the round will feature Ketchikan musicians perf
 orming in various ensembles\, solos\, and in the main Ketchikan Community 
 Concert Band and Windjammers. the doors open at 6pm for you to enjoy live 
 jazz music\, a no host bar\, and heavy hors d'oeuvres catered by the New Y
 ork Cafe. All seats are reserved and can be purchased at KAAHC or at Berni
 es. Tickets are $30 for adults and $18 youth under 15\, and military. Call
  KAAHC 225-2211 for more info and to purchase tickets!
X-WR-RELCALID:fffafdd99c36a0b406292ac0e30b9cb2
X-WR-TIMEZONE:America/Anchorage
BEGIN:VTIMEZONE
TZID:America/Anchorage
BEGIN:STANDARD
TZNAME:AKST
DTSTART:20181104T020000
TZOFFSETFROM:-0800
TZOFFSETTO:-0900
RDATE:20191103T020000
END:STANDARD
BEGIN:DAYLIGHT
TZNAME:AKDT
DTSTART:20190310T020000
TZOFFSETFROM:-0900
TZOFFSETTO:-0800
RDATE:20200308T020000
END:DAYLIGHT
END:VTIMEZONE
BEGIN:VEVENT
UID:798b0805-fe45-4cd4-a89a-230c26c28fe7
DTSTAMP:20260422T191632Z
DESCRIPTION:The Ketchikan Community Concert Band meets each Monday evening 
 from 7 to 8:30pm. Directed by Roy McPherson\, the Band performs 3 times an
 nually. If you  are interested in being in the band pleas call Roy at 907-
 225-3650. \n\nThe Spring performance is April 27th at the Ted Ferry civic 
 Center. Titles 'Collage Concert II' will be held at the Ted Ferry Civic Ce
 nter. This performance in the round will feature Ketchikan musicians perfo
 rming in various ensembles\, solos\, and in the main Ketchikan Community C
 oncert Band and Windjammers. the doors open at 6pm for you to enjoy live j
 azz music\, a no host bar\, and heavy hors d'oeuvres catered by the New Yo
 rk Cafe. All seats are reserved and can be purchased at KAAHC or at Bernie
 s. Tickets are $30 for adults and $18 youth under 15\, and military. Call 
 KAAHC 225-2211 for more info and to purchase tickets!
DTSTART;TZID=America/Anchorage:20190422T190000
DTEND;TZID=America/Anchorage:20190422T203000
LOCATION:The Plaza Mall - Band Room
SUMMARY:Ketchikan Community Concert Band Rehearsal
END:VEVENT
END:VCALENDAR
