BEGIN:VCALENDAR
VERSION:2.0
PRODID:-//www.ketchikanarts.org//NONSGML kigkonsult.se iCalcreator 2.30.10/
 /
CALSCALE:GREGORIAN
METHOD:PUBLISH
UID:e04e7d04-a894-487d-81cd-497ba9e40c59
X-WR-CALDESC:Doors open at 6:00pm at the Main Street Gallery\n\nSwing 101 6
 :15-6:55pm $5\nSwing 2     7:00-7:30pm $7\n\nCatch the bug..of dancing. Sw
 ing season is here!
X-WR-RELCALID:adfa4ec5868f047fe6c2618cde4eb236
X-WR-TIMEZONE:America/Anchorage
BEGIN:VTIMEZONE
TZID:America/Anchorage
BEGIN:STANDARD
TZNAME:AKST
DTSTART:20181104T020000
TZOFFSETFROM:-0800
TZOFFSETTO:-0900
RDATE:20191103T020000
END:STANDARD
BEGIN:DAYLIGHT
TZNAME:AKDT
DTSTART:20190310T020000
TZOFFSETFROM:-0900
TZOFFSETTO:-0800
RDATE:20200308T020000
END:DAYLIGHT
END:VTIMEZONE
BEGIN:VEVENT
UID:a0bb6a87-6103-41d9-b197-1b1f82b2181a
DTSTAMP:20260422T191544Z
DESCRIPTION:Doors open at 6:00pm at the Main Street Gallery\n\nSwing 101 6:
 15-6:55pm $5\nSwing 2     7:00-7:30pm $7\n\nCatch the bug..of dancing. Swi
 ng season is here!
DTSTART;TZID=America/Anchorage:20190422T181500
DTEND;TZID=America/Anchorage:20190422T193000
LOCATION:Main Street Gallery
SUMMARY:BOOMbal Dance Hall - Swing 101 & Swing 2
END:VEVENT
END:VCALENDAR
