BEGIN:VCALENDAR
VERSION:2.0
PRODID:-//www.ketchikanarts.org//NONSGML kigkonsult.se iCalcreator 2.30.10/
 /
CALSCALE:GREGORIAN
METHOD:PUBLISH
UID:0f339edf-f26b-48fd-9ad6-4714e569b07e
X-WR-CALDESC:Free Manga Drawing Class with instructor Ema Oshima. Supplies 
 provided. Call 225-3331 for more information.
X-WR-RELCALID:de4bbd56ba76a3196385cbb03865aa32
X-WR-TIMEZONE:America/Anchorage
BEGIN:VTIMEZONE
TZID:America/Anchorage
BEGIN:STANDARD
TZNAME:AKST
DTSTART:20181104T020000
TZOFFSETFROM:-0800
TZOFFSETTO:-0900
RDATE:20191103T020000
END:STANDARD
BEGIN:DAYLIGHT
TZNAME:AKDT
DTSTART:20190310T020000
TZOFFSETFROM:-0900
TZOFFSETTO:-0800
RDATE:20200308T020000
END:DAYLIGHT
END:VTIMEZONE
BEGIN:VEVENT
UID:dbc0de26-d486-4f0b-8304-2158e138daab
DTSTAMP:20260422T191538Z
DESCRIPTION:Free Manga Drawing Class with instructor Ema Oshima. Supplies p
 rovided. Call 225-3331 for more information.
DTSTART;TZID=America/Anchorage:20190422T163000
DTEND;TZID=America/Anchorage:20190422T173000
LOCATION:Ketchikan Public Library
SUMMARY:Manga Drawing Class Adult
END:VEVENT
END:VCALENDAR
