BEGIN:VCALENDAR
VERSION:2.0
PRODID:-//www.ketchikanarts.org//NONSGML kigkonsult.se iCalcreator 2.30.10/
 /
CALSCALE:GREGORIAN
METHOD:PUBLISH
UID:6dc3cddb-42ca-4a08-964b-0c53621e8225
X-WR-CALDESC:Pizza themed ART CONTEST!\n\nGo to Gold Pan's Facebook Page to
  enter.\n\nClick the enter now button! All ages and abilities are welcome 
 to participate. Fill out the linked entry form before April 20th. Then sub
 mit the finished artwork by May 1st. All participants will receive a t-shi
 rt\, and some will be selected for gift card prizes up to $250!\nAll forms
  of art are accepted but must be pizza related.\nFill out the form if you 
 intend to participate.\nThe form must be received by April 20th\, 2019.\nT
 here will be a gallery exhibiting the art beginning May 1\, and all art mu
 st be submitted in person to Gold Pan Pizza at 2200 Tongass Ave. before th
 at date.\nPrizes will be as follows:\nGrand prize $250 gift card\n$100 run
 ner up\nT- shirt to all participants.\n\nThere is also an option to sell y
 our artwork during the gallery\, May 1 through May 10. If you would like t
 o sell it you will notify us of the price when you drop off the artwork.\n
 \nPlease contact AKGoldPanPizza@gmail.com with questions.
X-WR-RELCALID:fab4f8d3a3d6c23fbe557f245e9a5dc3
X-WR-TIMEZONE:America/Anchorage
BEGIN:VTIMEZONE
TZID:America/Anchorage
BEGIN:STANDARD
TZNAME:AKST
DTSTART:20181104T020000
TZOFFSETFROM:-0800
TZOFFSETTO:-0900
RDATE:20191103T020000
END:STANDARD
BEGIN:DAYLIGHT
TZNAME:AKDT
DTSTART:20190310T020000
TZOFFSETFROM:-0900
TZOFFSETTO:-0800
RDATE:20200308T020000
END:DAYLIGHT
END:VTIMEZONE
BEGIN:VEVENT
UID:0931d159-db32-40a4-9603-43b4a4541feb
DTSTAMP:20260422T191106Z
DESCRIPTION:Pizza themed ART CONTEST!\n\nGo to Gold Pan's Facebook Page to 
 enter.\n\nClick the enter now button! All ages and abilities are welcome t
 o participate. Fill out the linked entry form before April 20th. Then subm
 it the finished artwork by May 1st. All participants will receive a t-shir
 t\, and some will be selected for gift card prizes up to $250!\nAll forms 
 of art are accepted but must be pizza related.\nFill out the form if you i
 ntend to participate.\nThe form must be received by April 20th\, 2019.\nTh
 ere will be a gallery exhibiting the art beginning May 1\, and all art mus
 t be submitted in person to Gold Pan Pizza at 2200 Tongass Ave. before tha
 t date.\nPrizes will be as follows:\nGrand prize $250 gift card\n$100 runn
 er up\nT- shirt to all participants.\n\nThere is also an option to sell yo
 ur artwork during the gallery\, May 1 through May 10. If you would like to
  sell it you will notify us of the price when you drop off the artwork.\n
 \nPlease contact AKGoldPanPizza@gmail.com with questions.
DTSTART;TZID=America/Anchorage:20190420T120000
DTEND;TZID=America/Anchorage:20190420T170000
LOCATION:Gold Pan Pizza
SUMMARY:Pizza Themed Art Contest
END:VEVENT
END:VCALENDAR
