BEGIN:VCALENDAR
VERSION:2.0
PRODID:-//www.ketchikanarts.org//NONSGML kigkonsult.se iCalcreator 2.30.10/
 /
CALSCALE:GREGORIAN
METHOD:PUBLISH
UID:cf9c2022-2ecb-4e31-a8c9-f8896d08a7f1
X-WR-CALDESC:
X-WR-RELCALID:04f1408002b794bd28c656f3c00a5755
X-WR-TIMEZONE:America/Anchorage
BEGIN:VTIMEZONE
TZID:America/Anchorage
BEGIN:STANDARD
TZNAME:AKST
DTSTART:20181104T020000
TZOFFSETFROM:-0800
TZOFFSETTO:-0900
RDATE:20191103T020000
END:STANDARD
BEGIN:DAYLIGHT
TZNAME:AKDT
DTSTART:20190310T020000
TZOFFSETFROM:-0900
TZOFFSETTO:-0800
RDATE:20200308T020000
END:DAYLIGHT
END:VTIMEZONE
BEGIN:VEVENT
UID:1223b331-634c-42cb-91fe-8ae47b420c92
DTSTAMP:20260422T190149Z
DESCRIPTION:
DTSTART;TZID=America/Anchorage:20190420T110000
DTEND;TZID=America/Anchorage:20190420T190000
LOCATION:Vibrance A Creative Space
SUMMARY:Open House
END:VEVENT
END:VCALENDAR
