BEGIN:VCALENDAR
VERSION:2.0
PRODID:-//www.ketchikanarts.org//NONSGML kigkonsult.se iCalcreator 2.30.10/
 /
CALSCALE:GREGORIAN
METHOD:PUBLISH
UID:aef3c572-5fa8-4e38-88d4-07b2e1ee1ac8
X-WR-CALDESC:Come in your best 80's gear and win BIG prizes in the Asylum's
  80's prom party. Last years party was HUGE and amazing and this year Wood
 y's Finest Hour is hoping to turn the energy up to 11!  Come drink dance a
 nd maybe win an awesome prize!
X-WR-RELCALID:76d4ca3478ce74fc231ff8deba9b26e5
X-WR-TIMEZONE:America/Anchorage
BEGIN:VTIMEZONE
TZID:America/Anchorage
BEGIN:STANDARD
TZNAME:AKST
DTSTART:20181104T020000
TZOFFSETFROM:-0800
TZOFFSETTO:-0900
RDATE:20191103T020000
END:STANDARD
BEGIN:DAYLIGHT
TZNAME:AKDT
DTSTART:20190310T020000
TZOFFSETFROM:-0900
TZOFFSETTO:-0800
RDATE:20200308T020000
END:DAYLIGHT
END:VTIMEZONE
BEGIN:VEVENT
UID:497a9b5c-4c8c-4d44-8583-de22d1ef4b93
DTSTAMP:20260422T191149Z
DESCRIPTION:Come in your best 80's gear and win BIG prizes in the Asylum's 
 80's prom party. Last years party was HUGE and amazing and this year Woody
 's Finest Hour is hoping to turn the energy up to 11!  Come drink dance an
 d maybe win an awesome prize!
DTSTART;TZID=America/Anchorage:20190420T210000
DTEND;TZID=America/Anchorage:20190421T010000
LOCATION:The Asylum
SUMMARY:KFMJ 80's Prom Party
END:VEVENT
END:VCALENDAR
