BEGIN:VCALENDAR
VERSION:2.0
PRODID:-//www.ketchikanarts.org//NONSGML kigkonsult.se iCalcreator 2.30.10/
 /
CALSCALE:GREGORIAN
METHOD:PUBLISH
UID:29151a96-12d4-485e-a341-7fea07264e03
X-WR-CALDESC:Grants for 'under recognized' Visual Artists ranging from $6\,
 000 to $10\,000. There is a $15 fee to apply.
X-WR-RELCALID:270e0ae9ad9210e626052c8d8bb200e0
X-WR-TIMEZONE:America/Anchorage
BEGIN:VTIMEZONE
TZID:America/Anchorage
BEGIN:STANDARD
TZNAME:AKST
DTSTART:20181104T020000
TZOFFSETFROM:-0800
TZOFFSETTO:-0900
RDATE:20191103T020000
END:STANDARD
BEGIN:DAYLIGHT
TZNAME:AKDT
DTSTART:20190310T020000
TZOFFSETFROM:-0900
TZOFFSETTO:-0800
RDATE:20200308T020000
END:DAYLIGHT
END:VTIMEZONE
BEGIN:VEVENT
UID:90c6d436-cefb-4f98-9460-3ea5707fd190
DTSTAMP:20260422T190302Z
DESCRIPTION:Grants for 'under recognized' Visual Artists ranging from $6\,0
 00 to $10\,000. There is a $15 fee to apply.
DTSTART;TZID=America/Anchorage:20190419T090000
DTEND;TZID=America/Anchorage:20190419T163000
LOCATION:
SUMMARY:Harpo Foundation Grants to Visual Artists
END:VEVENT
END:VCALENDAR
