BEGIN:VCALENDAR
VERSION:2.0
PRODID:-//www.ketchikanarts.org//NONSGML kigkonsult.se iCalcreator 2.30.10/
 /
CALSCALE:GREGORIAN
METHOD:PUBLISH
UID:b12bb0e7-c4f3-4a3d-a4ff-b40fb2b0a762
X-WR-CALDESC:Free Radicals call at the Creek Street Cabaret
X-WR-RELCALID:3c68f76851f813bbfdd745ab30e3144a
X-WR-TIMEZONE:America/Anchorage
BEGIN:VTIMEZONE
TZID:America/Anchorage
BEGIN:STANDARD
TZNAME:AKST
DTSTART:20181104T020000
TZOFFSETFROM:-0800
TZOFFSETTO:-0900
RDATE:20191103T020000
END:STANDARD
BEGIN:DAYLIGHT
TZNAME:AKDT
DTSTART:20190310T020000
TZOFFSETFROM:-0900
TZOFFSETTO:-0800
RDATE:20200308T020000
END:DAYLIGHT
END:VTIMEZONE
BEGIN:VEVENT
UID:cfd549f5-6181-4bc2-8188-d2ed6a8e2d28
DTSTAMP:20260422T185625Z
DESCRIPTION:Free Radicals call at the Creek Street Cabaret
DTSTART;TZID=America/Anchorage:20190419T180000
DTEND;TZID=America/Anchorage:20190419T210000
LOCATION:Creek Street Cabaret
SUMMARY:Alaska Square Dance
END:VEVENT
END:VCALENDAR
