BEGIN:VCALENDAR
VERSION:2.0
PRODID:-//www.ketchikanarts.org//NONSGML kigkonsult.se iCalcreator 2.30.10/
 /
CALSCALE:GREGORIAN
METHOD:PUBLISH
UID:b653f8c5-beac-43dd-a4f9-b26657f9a630
X-WR-CALDESC:Museum Midday is a program of the Tongass Historical Museum fe
 aturing artists and culture bearers of Ketchikan. This one-hour presentati
 on with world-renowned local fiber artist Kathryn Rousso will focus on her
  fusing of traditional Northwest Coast styles and her international knowle
 dge. Feel free to bring your lunch\, but please no food in the exhibit
X-WR-RELCALID:748adc6e8a0ffaecbade90466318cdfe
X-WR-TIMEZONE:America/Anchorage
BEGIN:VTIMEZONE
TZID:America/Anchorage
BEGIN:STANDARD
TZNAME:AKST
DTSTART:20181104T020000
TZOFFSETFROM:-0800
TZOFFSETTO:-0900
RDATE:20191103T020000
END:STANDARD
BEGIN:DAYLIGHT
TZNAME:AKDT
DTSTART:20190310T020000
TZOFFSETFROM:-0900
TZOFFSETTO:-0800
RDATE:20200308T020000
END:DAYLIGHT
END:VTIMEZONE
BEGIN:VEVENT
UID:c2c4672b-8a01-4f73-aee0-4152cd0dc2a4
DTSTAMP:20260422T185951Z
DESCRIPTION:Museum Midday is a program of the Tongass Historical Museum fea
 turing artists and culture bearers of Ketchikan. This one-hour presentatio
 n with world-renowned local fiber artist Kathryn Rousso will focus on her 
 fusing of traditional Northwest Coast styles and her international knowled
 ge. Feel free to bring your lunch\, but please no food in the exhibit
DTSTART;TZID=America/Anchorage:20190418T120000
DTEND;TZID=America/Anchorage:20190418T130000
LOCATION:Tongass Historical Museum
SUMMARY:Museum Midday with Kathryn Rousso
END:VEVENT
END:VCALENDAR
