BEGIN:VCALENDAR
VERSION:2.0
PRODID:-//www.ketchikanarts.org//NONSGML kigkonsult.se iCalcreator 2.30.10/
 /
CALSCALE:GREGORIAN
METHOD:PUBLISH
UID:df9bcf8d-6969-400f-b4b0-130cff42461d
X-WR-CALDESC:Join the Board of Directors of Ketchikan Area Arts and Humanit
 ies Council for the Annual Meeting and a Potluck!!!  Nothing says fun like
  an Annual Meeting!!! (That's why we added the Potluck...) Learn what the 
 Arts Council's been up to in the last year\, and share some deliciousness 
 with other lovers of the arts!\n\nPlease see links for agenda and minutes 
 of last year's meeting.
X-WR-RELCALID:5e2a2ebd3c7d7d32197c624c23f8ba4c
X-WR-TIMEZONE:America/Anchorage
BEGIN:VTIMEZONE
TZID:America/Anchorage
BEGIN:STANDARD
TZNAME:AKST
DTSTART:20181104T020000
TZOFFSETFROM:-0800
TZOFFSETTO:-0900
RDATE:20191103T020000
END:STANDARD
BEGIN:DAYLIGHT
TZNAME:AKDT
DTSTART:20190310T020000
TZOFFSETFROM:-0900
TZOFFSETTO:-0800
RDATE:20200308T020000
END:DAYLIGHT
END:VTIMEZONE
BEGIN:VEVENT
UID:12eb9a75-0147-4145-af6e-4dfb9b4693f3
DTSTAMP:20260422T191326Z
DESCRIPTION:Join the Board of Directors of Ketchikan Area Arts and Humaniti
 es Council for the Annual Meeting and a Potluck!!!  Nothing says fun like 
 an Annual Meeting!!! (That's why we added the Potluck...) Learn what the A
 rts Council's been up to in the last year\, and share some deliciousness w
 ith other lovers of the arts!\n\nPlease see links for agenda and minutes o
 f last year's meeting.
DTSTART;TZID=America/Anchorage:20190418T183000
DTEND;TZID=America/Anchorage:20190418T193000
LOCATION:Main Street Gallery
SUMMARY:KAAHC Annual Meeting/ Potluck!!!
END:VEVENT
END:VCALENDAR
