BEGIN:VCALENDAR
VERSION:2.0
PRODID:-//www.ketchikanarts.org//NONSGML kigkonsult.se iCalcreator 2.30.10/
 /
CALSCALE:GREGORIAN
METHOD:PUBLISH
UID:ba375d96-9bff-40ed-97a4-c056a625faa8
X-WR-CALDESC:Trying to write a short story? Need help\, or advice? Short St
 ory Discussion Group at the Library every Thursday. Please sign up at the 
 Library Front Desk. 225-3331
X-WR-RELCALID:bbdc8484319682ccd5f4154e115723e6
X-WR-TIMEZONE:America/Anchorage
BEGIN:VTIMEZONE
TZID:America/Anchorage
BEGIN:STANDARD
TZNAME:AKST
DTSTART:20181104T020000
TZOFFSETFROM:-0800
TZOFFSETTO:-0900
RDATE:20191103T020000
END:STANDARD
BEGIN:DAYLIGHT
TZNAME:AKDT
DTSTART:20190310T020000
TZOFFSETFROM:-0900
TZOFFSETTO:-0800
RDATE:20200308T020000
END:DAYLIGHT
END:VTIMEZONE
BEGIN:VEVENT
UID:aa8647ad-5ee9-49d4-be66-e0d73d56f681
DTSTAMP:20260422T191325Z
DESCRIPTION:Trying to write a short story? Need help\, or advice? Short Sto
 ry Discussion Group at the Library every Thursday. Please sign up at the L
 ibrary Front Desk. 225-3331
DTSTART;TZID=America/Anchorage:20190418T170000
DTEND;TZID=America/Anchorage:20190418T190000
LOCATION:Ketchikan Public Library
SUMMARY:Short Story Writing Discussion
END:VEVENT
END:VCALENDAR
