BEGIN:VCALENDAR
VERSION:2.0
PRODID:-//www.ketchikanarts.org//NONSGML kigkonsult.se iCalcreator 2.30.10/
 /
CALSCALE:GREGORIAN
METHOD:PUBLISH
UID:8a0f5f2c-b7c3-4b89-9d99-19ddc8806c20
X-WR-CALDESC:Join Dave Rubin\, guitar\, Hannah Karrick\,violin\, and Chazz 
 Gist\, bass\, at the Cape Fox Lodge to listen to them perform.
X-WR-RELCALID:a238c46ad995d8dc4fd8078cd8c74610
X-WR-TIMEZONE:America/Anchorage
BEGIN:VTIMEZONE
TZID:America/Anchorage
BEGIN:STANDARD
TZNAME:AKST
DTSTART:20181104T020000
TZOFFSETFROM:-0800
TZOFFSETTO:-0900
RDATE:20191103T020000
END:STANDARD
BEGIN:DAYLIGHT
TZNAME:AKDT
DTSTART:20190310T020000
TZOFFSETFROM:-0900
TZOFFSETTO:-0800
RDATE:20200308T020000
END:DAYLIGHT
END:VTIMEZONE
BEGIN:VEVENT
UID:237fd56b-6fb1-4f76-b2cc-3efa43a51472
DTSTAMP:20260422T191441Z
DESCRIPTION:Join Dave Rubin\, guitar\, Hannah Karrick\,violin\, and Chazz G
 ist\, bass\, at the Cape Fox Lodge to listen to them perform.
DTSTART;TZID=America/Anchorage:20190418T170000
DTEND;TZID=America/Anchorage:20190418T203000
LOCATION:Cape Fox Lodge
SUMMARY:Live Music at Cape Fox
END:VEVENT
END:VCALENDAR
