BEGIN:VCALENDAR
VERSION:2.0
PRODID:-//www.ketchikanarts.org//NONSGML kigkonsult.se iCalcreator 2.30.10/
 /
CALSCALE:GREGORIAN
METHOD:PUBLISH
UID:c3f34860-0879-45dd-a962-0589545cd0df
X-WR-CALDESC:Write a short story! Drop-In Writes and General Group Writing 
 Workshops will be held every Thursday in April at the Ketchikan Public Lib
 rary.
X-WR-RELCALID:c8306751ec490ceb4f807b5cb8b6e0ab
X-WR-TIMEZONE:America/Anchorage
BEGIN:VTIMEZONE
TZID:America/Anchorage
BEGIN:STANDARD
TZNAME:AKST
DTSTART:20181104T020000
TZOFFSETFROM:-0800
TZOFFSETTO:-0900
RDATE:20191103T020000
END:STANDARD
BEGIN:DAYLIGHT
TZNAME:AKDT
DTSTART:20190310T020000
TZOFFSETFROM:-0900
TZOFFSETTO:-0800
RDATE:20200308T020000
END:DAYLIGHT
END:VTIMEZONE
BEGIN:VEVENT
UID:fac342e3-bedc-4e71-83b6-baacfc28ed2f
DTSTAMP:20260422T191419Z
DESCRIPTION:Write a short story! Drop-In Writes and General Group Writing W
 orkshops will be held every Thursday in April at the Ketchikan Public Libr
 ary.
DTSTART;TZID=America/Anchorage:20190418T140000
DTEND;TZID=America/Anchorage:20190418T170000
LOCATION:Ketchikan Public Library
SUMMARY:Camp Nanowrimo
END:VEVENT
END:VCALENDAR
