BEGIN:VCALENDAR
VERSION:2.0
PRODID:-//www.ketchikanarts.org//NONSGML kigkonsult.se iCalcreator 2.30.10/
 /
CALSCALE:GREGORIAN
METHOD:PUBLISH
UID:292654cb-6775-4dad-952d-dbfbaef909ef
X-WR-CALDESC:The Ketchikan Community Chorus meets each Tuesday from 7 to 9p
 m at the Presbyterian Church.
X-WR-RELCALID:64c22ef5ef52b341fa685367adebf695
X-WR-TIMEZONE:America/Anchorage
BEGIN:VTIMEZONE
TZID:America/Anchorage
BEGIN:STANDARD
TZNAME:AKST
DTSTART:20181104T020000
TZOFFSETFROM:-0800
TZOFFSETTO:-0900
RDATE:20191103T020000
END:STANDARD
BEGIN:DAYLIGHT
TZNAME:AKDT
DTSTART:20190310T020000
TZOFFSETFROM:-0900
TZOFFSETTO:-0800
RDATE:20200308T020000
END:DAYLIGHT
END:VTIMEZONE
BEGIN:VEVENT
UID:c40c167d-f8a2-4617-8c6a-61eab7dd9db4
DTSTAMP:20260422T191602Z
DESCRIPTION:The Ketchikan Community Chorus meets each Tuesday from 7 to 9pm
  at the Presbyterian Church.
DTSTART;TZID=America/Anchorage:20190416T190000
DTEND;TZID=America/Anchorage:20190416T210000
LOCATION:Ketchikan Presbyterian Church
SUMMARY:Ketchikan Community Chorus Rehearsal
END:VEVENT
END:VCALENDAR
