BEGIN:VCALENDAR
VERSION:2.0
PRODID:-//www.ketchikanarts.org//NONSGML kigkonsult.se iCalcreator 2.30.10/
 /
CALSCALE:GREGORIAN
METHOD:PUBLISH
UID:c266beba-46dd-48d0-9785-ae617c954f56
X-WR-CALDESC:Pop-Up Galleries! 7 Artists - 7 Locations - 7 Weeks!\nDon't mi
 ss this Ketchikan first\, celebrating emerging local artists in exciting s
 paces.\nJason Dallas Hensler Baldwin - Green Coffee Bean Company\nTimothy 
 Kent Bronshidle\, Jr. - Kooteeyaa Koffee House\nJannalee Gage - The Landin
 g\nAndrea Mento - Rain Country Nutrition\nJames North - AJ's Gourmet Burge
 rs\nEma Lee Oshima - First Bank (Downtown)\nKrystal Jewel Thomas - New Yor
 k Cafe
X-WR-RELCALID:e98b6a6780bf51ae8e3fec3ebcf4b317
X-WR-TIMEZONE:America/Anchorage
BEGIN:VTIMEZONE
TZID:America/Anchorage
BEGIN:STANDARD
TZNAME:AKST
DTSTART:20181104T020000
TZOFFSETFROM:-0800
TZOFFSETTO:-0900
RDATE:20191103T020000
END:STANDARD
BEGIN:DAYLIGHT
TZNAME:AKDT
DTSTART:20190310T020000
TZOFFSETFROM:-0900
TZOFFSETTO:-0800
RDATE:20200308T020000
END:DAYLIGHT
END:VTIMEZONE
BEGIN:VEVENT
UID:381a1175-393e-4713-98f9-813063cd5fcd
DTSTAMP:20260422T173320Z
DESCRIPTION:Pop-Up Galleries! 7 Artists - 7 Locations - 7 Weeks!\nDon't mis
 s this Ketchikan first\, celebrating emerging local artists in exciting sp
 aces.\nJason Dallas Hensler Baldwin - Green Coffee Bean Company\nTimothy K
 ent Bronshidle\, Jr. - Kooteeyaa Koffee House\nJannalee Gage - The Landing
 \nAndrea Mento - Rain Country Nutrition\nJames North - AJ's Gourmet Burger
 s\nEma Lee Oshima - First Bank (Downtown)\nKrystal Jewel Thomas - New York
  Cafe
DTSTART;TZID=America/Anchorage:20190415T160000
DTEND;TZID=America/Anchorage:20190531T170000
LOCATION:
SUMMARY:Pop-Up Galleries! 7 Artists 7 Locations 7 Weeks!
END:VEVENT
END:VCALENDAR
