BEGIN:VCALENDAR
VERSION:2.0
PRODID:-//www.ketchikanarts.org//NONSGML kigkonsult.se iCalcreator 2.30.10/
 /
CALSCALE:GREGORIAN
METHOD:PUBLISH
UID:a97d3877-c599-4f2f-a350-9b4e08a40fb0
X-WR-CALDESC:WHO CAN PERFORM:\nAll local musicians in the Ketchikan area ar
 e invited to take advantage of this opportunity!!!! There is an applicatio
 n and audition process for all performers in order to participate.\nWHEN &
  WHERE ARE THE PERFORMANCES:\n12:00pm to 1:00pm\, Mondays\, Tuesdays\, Thu
 rsdays with a few Wednesdays and Fridays thrown in - Memorial Day to (almo
 st )Labor Day!!\nRainy Days - Under cover of the Berth 3 shelter\nSunny Da
 ys - By the Ketchikan Visitors Bureau on Berth 2\nCall the Arts Council at
  225-2211 for more information!
X-WR-RELCALID:d057ffc3022411dcc7dd00c88a4e9dbb
X-WR-TIMEZONE:America/Anchorage
BEGIN:VTIMEZONE
TZID:America/Anchorage
BEGIN:STANDARD
TZNAME:AKST
DTSTART:20181104T020000
TZOFFSETFROM:-0800
TZOFFSETTO:-0900
RDATE:20191103T020000
END:STANDARD
BEGIN:DAYLIGHT
TZNAME:AKDT
DTSTART:20190310T020000
TZOFFSETFROM:-0900
TZOFFSETTO:-0800
RDATE:20200308T020000
END:DAYLIGHT
END:VTIMEZONE
BEGIN:VEVENT
UID:4d786989-65a0-4a57-b51a-27a06855877f
DTSTAMP:20260422T191325Z
DESCRIPTION:WHO CAN PERFORM:\nAll local musicians in the Ketchikan area are
  invited to take advantage of this opportunity!!!! There is an application
  and audition process for all performers in order to participate.\nWHEN & 
 WHERE ARE THE PERFORMANCES:\n12:00pm to 1:00pm\, Mondays\, Tuesdays\, Thur
 sdays with a few Wednesdays and Fridays thrown in - Memorial Day to (almos
 t )Labor Day!!\nRainy Days - Under cover of the Berth 3 shelter\nSunny Day
 s - By the Ketchikan Visitors Bureau on Berth 2\nCall the Arts Council at 
 225-2211 for more information!
DTSTART;TZID=America/Anchorage:20190415T090000
DTEND;TZID=America/Anchorage:20190415T170000
LOCATION:
SUMMARY:2019 Music on the Dock Call for Musicians
END:VEVENT
END:VCALENDAR
