BEGIN:VCALENDAR
VERSION:2.0
PRODID:-//www.ketchikanarts.org//NONSGML kigkonsult.se iCalcreator 2.30.10/
 /
CALSCALE:GREGORIAN
METHOD:PUBLISH
UID:dab27675-8a7d-4f1e-be98-b6c26b789467
X-WR-CALDESC:Hosted and mentored by Jack Finnegan\, the culminating event f
 rom this seasons story slam.  Handpicked storytellers will be invited to r
 eturn to the stage\, with a practiced developed story. Enjoy this event at
  the Saxman Tribal House.\nTickets\, $15\,  can be purchased at the Arts C
 ouncil\, 330 Main Street or click below!\n
X-WR-RELCALID:2b883c254e8b3245d5e869e8727233d7
X-WR-TIMEZONE:America/Anchorage
BEGIN:VTIMEZONE
TZID:America/Anchorage
BEGIN:STANDARD
TZNAME:AKST
DTSTART:20181104T020000
TZOFFSETFROM:-0800
TZOFFSETTO:-0900
RDATE:20191103T020000
END:STANDARD
BEGIN:DAYLIGHT
TZNAME:AKDT
DTSTART:20190310T020000
TZOFFSETFROM:-0900
TZOFFSETTO:-0800
RDATE:20200308T020000
END:DAYLIGHT
END:VTIMEZONE
BEGIN:VEVENT
UID:52fe8228-9247-41b9-bea2-e95a299d3480
DTSTAMP:20260422T185916Z
DESCRIPTION:Hosted and mentored by Jack Finnegan\, the culminating event fr
 om this seasons story slam.  Handpicked storytellers will be invited to re
 turn to the stage\, with a practiced developed story. Enjoy this event at 
 the Saxman Tribal House.\nTickets\, $15\,  can be purchased at the Arts Co
 uncil\, 330 Main Street or click below!\n
DTSTART;TZID=America/Anchorage:20190414T153000
DTEND;TZID=America/Anchorage:20190414T193000
LOCATION:Saxman Tribal House
SUMMARY:Stories at Latitude 56
END:VEVENT
END:VCALENDAR
