BEGIN:VCALENDAR
VERSION:2.0
PRODID:-//www.ketchikanarts.org//NONSGML kigkonsult.se iCalcreator 2.30.10/
 /
CALSCALE:GREGORIAN
METHOD:PUBLISH
UID:9ae39a9b-16cb-4b93-ad57-748e197ababa
X-WR-CALDESC:Friday\, April 12: Film - Nooł: The Heartbeat of a Culture \n
 \nKPU TV features artist\, carver\, and educator Mike Dangeli for a full l
 ength interview during his time teaching at the Totem Heritage Center. Thi
 s short documentary takes an in depth look at Dangeli’s teachings\, backgr
 ound as an artist\, and family history as he passes on his knowledge of dr
 um making to Ketchikan students.
X-WR-RELCALID:1a82e46c5bbe02f1413513b5407507db
X-WR-TIMEZONE:America/Anchorage
BEGIN:VTIMEZONE
TZID:America/Anchorage
BEGIN:STANDARD
TZNAME:AKST
DTSTART:20181104T020000
TZOFFSETFROM:-0800
TZOFFSETTO:-0900
RDATE:20191103T020000
END:STANDARD
BEGIN:DAYLIGHT
TZNAME:AKDT
DTSTART:20190310T020000
TZOFFSETFROM:-0900
TZOFFSETTO:-0800
RDATE:20200308T020000
END:DAYLIGHT
END:VTIMEZONE
BEGIN:VEVENT
UID:09e31149-1ad6-4d90-91da-a8be41351b3f
DTSTAMP:20260422T190059Z
DESCRIPTION:Friday\, April 12: Film - Nooł: The Heartbeat of a Culture \n\n
 KPU TV features artist\, carver\, and educator Mike Dangeli for a full len
 gth interview during his time teaching at the Totem Heritage Center. This 
 short documentary takes an in depth look at Dangeli’s teachings\, backgrou
 nd as an artist\, and family history as he passes on his knowledge of drum
  making to Ketchikan students.
DTSTART;TZID=America/Anchorage:20190412T180000
DTEND;TZID=America/Anchorage:20190412T200000
LOCATION:Southeast Alaska Discovery Center
SUMMARY:Friday Night Insights
END:VEVENT
END:VCALENDAR
