BEGIN:VCALENDAR
VERSION:2.0
PRODID:-//www.ketchikanarts.org//NONSGML kigkonsult.se iCalcreator 2.30.10/
 /
CALSCALE:GREGORIAN
METHOD:PUBLISH
UID:ec66953c-d29e-416c-aff5-ad59720d9998
X-WR-CALDESC:This advanced class in metalworking with Kelsey Boyd requires 
 that you have taken at least one class from her before. This class is limi
 ted to 18 people. Call early to reserved your spot!!! 907-225-2211 $60 per
  person.
X-WR-RELCALID:4ea4c2c5c6716c050aebe8b7cd72f245
X-WR-TIMEZONE:America/Anchorage
BEGIN:VTIMEZONE
TZID:America/Anchorage
BEGIN:STANDARD
TZNAME:AKST
DTSTART:20181104T020000
TZOFFSETFROM:-0800
TZOFFSETTO:-0900
RDATE:20191103T020000
END:STANDARD
BEGIN:DAYLIGHT
TZNAME:AKDT
DTSTART:20190310T020000
TZOFFSETFROM:-0900
TZOFFSETTO:-0800
RDATE:20200308T020000
END:DAYLIGHT
END:VTIMEZONE
BEGIN:VEVENT
UID:08814662-4f62-4cf9-8fa5-9e600b8754ae
DTSTAMP:20260422T191118Z
DESCRIPTION:This advanced class in metalworking with Kelsey Boyd requires t
 hat you have taken at least one class from her before. This class is limit
 ed to 18 people. Call early to reserved your spot!!! 907-225-2211 $60 per 
 person.
DTSTART;TZID=America/Anchorage:20190412T183000
DTEND;TZID=America/Anchorage:20190412T210000
LOCATION:Main Street Gallery
SUMMARY:Arts Uncorked - Advanced Metalworking with Kelsey Boyd
END:VEVENT
END:VCALENDAR
