BEGIN:VCALENDAR
VERSION:2.0
PRODID:-//www.ketchikanarts.org//NONSGML kigkonsult.se iCalcreator 2.30.10/
 /
CALSCALE:GREGORIAN
METHOD:PUBLISH
UID:ffd6dbba-2527-4ad9-b875-9f816ed77ff1
X-WR-CALDESC:Daily Jazz concerts 10:30 am\, $5\nDaily Evening concerts 6:00
  pm\, $5\n\nTickets sold at the door balcony seating only!
X-WR-RELCALID:c17153bfc2b7e5ed1448d43ee239fe8f
X-WR-TIMEZONE:America/Anchorage
BEGIN:VTIMEZONE
TZID:America/Anchorage
BEGIN:STANDARD
TZNAME:AKST
DTSTART:20181104T020000
TZOFFSETFROM:-0800
TZOFFSETTO:-0900
RDATE:20191103T020000
END:STANDARD
BEGIN:DAYLIGHT
TZNAME:AKDT
DTSTART:20190310T020000
TZOFFSETFROM:-0900
TZOFFSETTO:-0800
RDATE:20200308T020000
END:DAYLIGHT
END:VTIMEZONE
BEGIN:VEVENT
UID:a7131b01-e683-4091-a5cd-b500c7cc6429
DTSTAMP:20260422T191440Z
DESCRIPTION:Daily Jazz concerts 10:30 am\, $5\nDaily Evening concerts 6:00 
 pm\, $5\n\nTickets sold at the door balcony seating only!
DTSTART;TZID=America/Anchorage:20190411T150000
DTEND;TZID=America/Anchorage:20190413T160000
LOCATION:Kayhi
SUMMARY:SE Regional Music Festival
END:VEVENT
END:VCALENDAR
