BEGIN:VCALENDAR
VERSION:2.0
PRODID:-//www.ketchikanarts.org//NONSGML kigkonsult.se iCalcreator 2.30.10/
 /
CALSCALE:GREGORIAN
METHOD:PUBLISH
UID:1252283c-f940-40bb-93f7-9157d624dbaf
X-WR-CALDESC:Join Dave Rubin\, guitar\, Hannah Karrick\,violin\, and Chazz 
 Gist\, bass\, at the Cape Fox Lodge to listen to them perform.
X-WR-RELCALID:1592c3dcd47003b87a569cf1937a172d
X-WR-TIMEZONE:America/Anchorage
BEGIN:VTIMEZONE
TZID:America/Anchorage
BEGIN:STANDARD
TZNAME:AKST
DTSTART:20181104T020000
TZOFFSETFROM:-0800
TZOFFSETTO:-0900
RDATE:20191103T020000
END:STANDARD
BEGIN:DAYLIGHT
TZNAME:AKDT
DTSTART:20190310T020000
TZOFFSETFROM:-0900
TZOFFSETTO:-0800
RDATE:20200308T020000
END:DAYLIGHT
END:VTIMEZONE
BEGIN:VEVENT
UID:d7924990-8784-42f5-b6a1-7178d98e74a9
DTSTAMP:20260422T191257Z
DESCRIPTION:Join Dave Rubin\, guitar\, Hannah Karrick\,violin\, and Chazz G
 ist\, bass\, at the Cape Fox Lodge to listen to them perform.
DTSTART;TZID=America/Anchorage:20190411T170000
DTEND;TZID=America/Anchorage:20190411T203000
LOCATION:Cape Fox Lodge
SUMMARY:Live Music at Cape Fox
END:VEVENT
END:VCALENDAR
