BEGIN:VCALENDAR
VERSION:2.0
PRODID:-//www.ketchikanarts.org//NONSGML kigkonsult.se iCalcreator 2.30.10/
 /
CALSCALE:GREGORIAN
METHOD:PUBLISH
UID:e2ff4b42-a1e9-4e06-b111-191d8b155438
X-WR-CALDESC:Auditions for the upcoming First city Player production of Cal
 endar Girls on April 8 & 9 at 7:00pm. \nYou need to only attend one auditi
 on. No pre-prepared material needed\, just come ready to read and play!\nR
 oles available for 9 women\, aged 20's-90's and 4 men\, aged 20's-60's.\nF
 or questions or for more information\, call 225-4792.\nPerformances are Ju
 ne 14\, 15 and 21\, 22
X-WR-RELCALID:8a19ff0e4c3515b91f46fa38bba9a0fb
X-WR-TIMEZONE:America/Anchorage
BEGIN:VTIMEZONE
TZID:America/Anchorage
BEGIN:STANDARD
TZNAME:AKST
DTSTART:20181104T020000
TZOFFSETFROM:-0800
TZOFFSETTO:-0900
RDATE:20191103T020000
END:STANDARD
BEGIN:DAYLIGHT
TZNAME:AKDT
DTSTART:20190310T020000
TZOFFSETFROM:-0900
TZOFFSETTO:-0800
RDATE:20200308T020000
END:DAYLIGHT
END:VTIMEZONE
BEGIN:VEVENT
UID:ee91faf2-2704-4396-a8e0-552fa5d0655e
DTSTAMP:20260422T191537Z
DESCRIPTION:Auditions for the upcoming First city Player production of Cale
 ndar Girls on April 8 & 9 at 7:00pm. \nYou need to only attend one auditio
 n. No pre-prepared material needed\, just come ready to read and play!\nRo
 les available for 9 women\, aged 20's-90's and 4 men\, aged 20's-60's.\nFo
 r questions or for more information\, call 225-4792.\nPerformances are Jun
 e 14\, 15 and 21\, 22
DTSTART;TZID=America/Anchorage:20190409T190000
DTEND;TZID=America/Anchorage:20190409T210000
LOCATION:
SUMMARY:FCP's Calendar Girls Auditions
END:VEVENT
END:VCALENDAR
