BEGIN:VCALENDAR
VERSION:2.0
PRODID:-//www.ketchikanarts.org//NONSGML kigkonsult.se iCalcreator 2.30.10/
 /
CALSCALE:GREGORIAN
METHOD:PUBLISH
UID:559d3717-fdcd-42b7-83fd-586db6aee80d
X-WR-CALDESC:
X-WR-RELCALID:5a4bca0fb15139226fd3260e872d546f
X-WR-TIMEZONE:America/Anchorage
BEGIN:VTIMEZONE
TZID:America/Anchorage
BEGIN:STANDARD
TZNAME:AKST
DTSTART:20181104T020000
TZOFFSETFROM:-0800
TZOFFSETTO:-0900
RDATE:20191103T020000
END:STANDARD
BEGIN:DAYLIGHT
TZNAME:AKDT
DTSTART:20190310T020000
TZOFFSETFROM:-0900
TZOFFSETTO:-0800
RDATE:20200308T020000
END:DAYLIGHT
END:VTIMEZONE
BEGIN:VEVENT
UID:8ed55e81-705b-4f15-af48-a754267fec00
DTSTAMP:20260422T191419Z
DESCRIPTION:
DTSTART;TZID=America/Anchorage:20190408T120000
DTEND;TZID=America/Anchorage:20190414T130000
LOCATION:Juneau\, AK
SUMMARY:2019 Alaska Folk Festival
END:VEVENT
END:VCALENDAR
